Package: CNVrd2 Version: 1.45.0 Command: /home/biocbuild/bbs-3.21-bioc/R/bin/R CMD check --install=check:CNVrd2.install-out.txt --library=/home/biocbuild/bbs-3.21-bioc/R/site-library --timings CNVrd2_1.45.0.tar.gz StartedAt: 2025-02-09 21:04:42 -0500 (Sun, 09 Feb 2025) EndedAt: 2025-02-09 21:08:00 -0500 (Sun, 09 Feb 2025) EllapsedTime: 198.3 seconds RetCode: 0 Status: OK CheckDir: CNVrd2.Rcheck Warnings: 0