Package: CNVrd2 Version: 1.45.0 Command: chmod a+r CNVrd2 -R && E:\biocbuild\bbs-3.21-bioc\R\bin\R.exe CMD build --keep-empty-dirs --no-resave-data CNVrd2 StartedAt: 2025-02-09 17:57:47 -0500 (Sun, 09 Feb 2025) EndedAt: 2025-02-09 17:59:27 -0500 (Sun, 09 Feb 2025) EllapsedTime: 99.9 seconds RetCode: 0 Status: OK PackageFile: CNVrd2_1.45.0.tar.gz PackageFileSize: 2.54 MiB