Package: CNVrd2 Version: 1.45.0 Command: E:\biocbuild\bbs-3.21-bioc\R\bin\R.exe CMD INSTALL CNVrd2 StartedAt: 2025-02-12 16:34:25 -0500 (Wed, 12 Feb 2025) EndedAt: 2025-02-12 16:35:17 -0500 (Wed, 12 Feb 2025) EllapsedTime: 52.6 seconds RetCode: 0 Status: OK