Package: COCOA Version: 2.21.0 Command: /Library/Frameworks/R.framework/Resources/bin/R CMD check --install=check:COCOA.install-out.txt --library=/Library/Frameworks/R.framework/Resources/library --no-vignettes --timings COCOA_2.21.0.tar.gz StartedAt: 2025-02-09 18:36:11 -0500 (Sun, 09 Feb 2025) EndedAt: 2025-02-09 18:38:17 -0500 (Sun, 09 Feb 2025) EllapsedTime: 126.5 seconds RetCode: 0 Status: OK CheckDir: COCOA.Rcheck Warnings: 0