Package: COCOA Version: 2.21.0 Command: /Library/Frameworks/R.framework/Resources/bin/R CMD INSTALL COCOA StartedAt: 2025-02-09 15:24:04 -0500 (Sun, 09 Feb 2025) EndedAt: 2025-02-09 15:24:20 -0500 (Sun, 09 Feb 2025) EllapsedTime: 16.7 seconds RetCode: 0 Status: OK