Package: COCOA Version: 2.21.0 Command: /home/biocbuild/R/R/bin/R CMD INSTALL COCOA StartedAt: 2025-01-29 20:25:53 -0000 (Wed, 29 Jan 2025) EndedAt: 2025-01-29 20:26:51 -0000 (Wed, 29 Jan 2025) EllapsedTime: 58.5 seconds RetCode: 0 Status: OK