Package: COCOA Version: 2.21.0 Command: /Library/Frameworks/R.framework/Resources/bin/R CMD build --keep-empty-dirs --no-resave-data COCOA StartedAt: 2025-02-09 16:20:23 -0500 (Sun, 09 Feb 2025) EndedAt: 2025-02-09 16:22:36 -0500 (Sun, 09 Feb 2025) EllapsedTime: 132.8 seconds RetCode: 0 Status: OK PackageFile: COCOA_2.21.0.tar.gz PackageFileSize: 3.456 MiB