Package: COCOA Version: 2.21.0 Command: /Library/Frameworks/R.framework/Resources/bin/R CMD INSTALL COCOA StartedAt: 2025-02-09 15:38:21 -0500 (Sun, 09 Feb 2025) EndedAt: 2025-02-09 15:39:21 -0500 (Sun, 09 Feb 2025) EllapsedTime: 59.3 seconds RetCode: 0 Status: OK