Package: COCOA Version: 2.21.0 Command: E:\biocbuild\bbs-3.21-bioc\R\bin\R.exe CMD check --no-multiarch --install=check:COCOA.install-out.txt --library=E:\biocbuild\bbs-3.21-bioc\R\library --no-vignettes --timings COCOA_2.21.0.tar.gz StartedAt: 2025-02-09 23:49:01 -0500 (Sun, 09 Feb 2025) EndedAt: 2025-02-09 23:55:18 -0500 (Sun, 09 Feb 2025) EllapsedTime: 377.0 seconds RetCode: 0 Status: OK CheckDir: COCOA.Rcheck Warnings: 0