Package: CODEX Version: 1.39.0 Command: /home/biocbuild/R/R/bin/R CMD build --keep-empty-dirs --no-resave-data CODEX StartedAt: 2025-01-28 22:01:00 -0000 (Tue, 28 Jan 2025) EndedAt: 2025-01-28 22:03:28 -0000 (Tue, 28 Jan 2025) EllapsedTime: 148.0 seconds RetCode: 0 Status: OK PackageFile: CODEX_1.39.0.tar.gz PackageFileSize: 909.1 KiB