Package: CODEX Version: 1.39.0 Command: /Library/Frameworks/R.framework/Resources/bin/R CMD build --keep-empty-dirs --no-resave-data CODEX StartedAt: 2025-02-09 16:20:23 -0500 (Sun, 09 Feb 2025) EndedAt: 2025-02-09 16:22:24 -0500 (Sun, 09 Feb 2025) EllapsedTime: 121.3 seconds RetCode: 0 Status: OK PackageFile: CODEX_1.39.0.tar.gz PackageFileSize: 913.9 KiB