Package: CODEX Version: 1.39.0 Command: /Library/Frameworks/R.framework/Resources/bin/R CMD check --install=check:CODEX.install-out.txt --library=/Library/Frameworks/R.framework/Resources/library --no-vignettes --timings CODEX_1.39.0.tar.gz StartedAt: 2025-02-09 19:52:32 -0500 (Sun, 09 Feb 2025) EndedAt: 2025-02-09 19:57:22 -0500 (Sun, 09 Feb 2025) EllapsedTime: 289.4 seconds RetCode: 0 Status: OK CheckDir: CODEX.Rcheck Warnings: 0