Package: CODEX Version: 1.39.0 Command: /Library/Frameworks/R.framework/Resources/bin/R CMD INSTALL CODEX StartedAt: 2025-02-09 15:19:29 -0500 (Sun, 09 Feb 2025) EndedAt: 2025-02-09 15:20:21 -0500 (Sun, 09 Feb 2025) EllapsedTime: 52.5 seconds RetCode: 0 Status: OK