Package: CODEX Version: 1.39.0 Command: /home/biocbuild/bbs-3.21-bioc/R/bin/R CMD build --keep-empty-dirs --no-resave-data CODEX StartedAt: 2025-02-09 16:43:14 -0500 (Sun, 09 Feb 2025) EndedAt: 2025-02-09 16:45:02 -0500 (Sun, 09 Feb 2025) EllapsedTime: 108.1 seconds RetCode: 0 Status: OK PackageFile: CODEX_1.39.0.tar.gz PackageFileSize: 915.1 KiB