Package: CODEX Version: 1.39.0 Command: /home/biocbuild/bbs-3.21-bioc/R/bin/R CMD INSTALL CODEX StartedAt: 2025-02-09 15:33:41 -0500 (Sun, 09 Feb 2025) EndedAt: 2025-02-09 15:34:12 -0500 (Sun, 09 Feb 2025) EllapsedTime: 31.0 seconds RetCode: 0 Status: OK