Package: CODEX Version: 1.39.0 Command: rm -rf CODEX.buildbin-libdir && mkdir CODEX.buildbin-libdir && E:\biocbuild\bbs-3.21-bioc\R\bin\R.exe CMD INSTALL --build --library=CODEX.buildbin-libdir CODEX_1.39.0.tar.gz StartedAt: 2025-02-13 07:40:40 -0500 (Thu, 13 Feb 2025) EndedAt: 2025-02-13 07:41:16 -0500 (Thu, 13 Feb 2025) EllapsedTime: 35.9 seconds RetCode: 0 Status: OK PackageFile: CODEX_1.39.0.zip PackageFileSize: 1.239 MiB