Package: CODEX Version: 1.39.0 Command: chmod a+r CODEX -R && E:\biocbuild\bbs-3.21-bioc\R\bin\R.exe CMD build --keep-empty-dirs --no-resave-data CODEX StartedAt: 2025-02-12 18:00:52 -0500 (Wed, 12 Feb 2025) EndedAt: 2025-02-12 18:03:11 -0500 (Wed, 12 Feb 2025) EllapsedTime: 139.1 seconds RetCode: 0 Status: OK PackageFile: CODEX_1.39.0.tar.gz PackageFileSize: 824 KiB