Package: CODEX Version: 1.39.0 Command: E:\biocbuild\bbs-3.21-bioc\R\bin\R.exe CMD check --no-multiarch --install=check:CODEX.install-out.txt --library=E:\biocbuild\bbs-3.21-bioc\R\library --no-vignettes --timings CODEX_1.39.0.tar.gz StartedAt: 2025-02-09 23:49:22 -0500 (Sun, 09 Feb 2025) EndedAt: 2025-02-09 23:54:34 -0500 (Sun, 09 Feb 2025) EllapsedTime: 311.9 seconds RetCode: 0 Status: OK CheckDir: CODEX.Rcheck Warnings: 0