Package: COMPASS Version: 1.45.0 Maintainer: Greg Finak MaintainerEmail: gfinak at fhcrc.org git_url: https://git.bioconductor.org/packages/COMPASS git_branch: devel git_last_commit: 2b16d61 git_last_commit_date: 2024-10-29 09:50:09 -0500 (Tue, 29 Oct 2024)