Package: COMPASS Version: 1.45.0 Command: /Library/Frameworks/R.framework/Resources/bin/R CMD build --keep-empty-dirs --no-resave-data COMPASS StartedAt: 2025-02-09 15:57:24 -0500 (Sun, 09 Feb 2025) EndedAt: 2025-02-09 15:59:15 -0500 (Sun, 09 Feb 2025) EllapsedTime: 111.2 seconds RetCode: 0 Status: OK PackageFile: COMPASS_1.45.0.tar.gz PackageFileSize: 1.305 MiB