Package: COMPASS Version: 1.45.0 Command: /Library/Frameworks/R.framework/Resources/bin/R CMD check --install=check:COMPASS.install-out.txt --library=/Library/Frameworks/R.framework/Resources/library --no-vignettes --timings COMPASS_1.45.0.tar.gz StartedAt: 2025-02-09 18:38:02 -0500 (Sun, 09 Feb 2025) EndedAt: 2025-02-09 18:38:50 -0500 (Sun, 09 Feb 2025) EllapsedTime: 47.6 seconds RetCode: 0 Status: OK CheckDir: COMPASS.Rcheck Warnings: 0