Package: COMPASS Version: 1.45.0 Command: /home/biocbuild/R/R/bin/R CMD build --keep-empty-dirs --no-resave-data COMPASS StartedAt: 2025-01-28 22:03:28 -0000 (Tue, 28 Jan 2025) EndedAt: 2025-01-28 22:08:57 -0000 (Tue, 28 Jan 2025) EllapsedTime: 329.1 seconds RetCode: 0 Status: OK PackageFile: COMPASS_1.45.0.tar.gz PackageFileSize: 1.172 MiB