Package: COMPASS Version: 1.45.0 Command: /Library/Frameworks/R.framework/Resources/bin/R CMD build --keep-empty-dirs --no-resave-data COMPASS StartedAt: 2025-02-09 16:21:12 -0500 (Sun, 09 Feb 2025) EndedAt: 2025-02-09 16:27:31 -0500 (Sun, 09 Feb 2025) EllapsedTime: 378.5 seconds RetCode: 0 Status: OK PackageFile: COMPASS_1.45.0.tar.gz PackageFileSize: 1.305 MiB