Package: COMPASS Version: 1.45.0 Command: /Library/Frameworks/R.framework/Resources/bin/R CMD INSTALL COMPASS StartedAt: 2025-02-09 15:25:56 -0500 (Sun, 09 Feb 2025) EndedAt: 2025-02-09 15:26:50 -0500 (Sun, 09 Feb 2025) EllapsedTime: 54.1 seconds RetCode: 0 Status: OK