Package: COMPASS Version: 1.45.0 Command: chmod a+r COMPASS -R && E:\biocbuild\bbs-3.21-bioc\R\bin\R.exe CMD build --keep-empty-dirs --no-resave-data COMPASS StartedAt: 2025-02-09 18:00:00 -0500 (Sun, 09 Feb 2025) EndedAt: 2025-02-09 18:06:55 -0500 (Sun, 09 Feb 2025) EllapsedTime: 414.1 seconds RetCode: 0 Status: OK PackageFile: COMPASS_1.45.0.tar.gz PackageFileSize: 1.115 MiB