Package: COTAN Version: 2.7.3 Maintainer: Galfrè Silvia Giulia MaintainerEmail: silvia.galfre at di.unipi.it git_url: https://git.bioconductor.org/packages/COTAN git_branch: devel git_last_commit: 5b7bd84 git_last_commit_date: 2025-01-27 12:01:10 -0500 (Mon, 27 Jan 2025)