Package: COTAN Version: 2.7.3 Command: rm -rf COTAN.buildbin-libdir && mkdir COTAN.buildbin-libdir && /Users/biocbuild/BBS/utils/build-universal.sh COTAN_2.7.3.tar.gz /Library/Frameworks/R.framework/Resources/bin/R COTAN.buildbin-libdir StartedAt: 2025-02-09 22:10:37 -0500 (Sun, 09 Feb 2025) EndedAt: 2025-02-09 22:10:58 -0500 (Sun, 09 Feb 2025) EllapsedTime: 20.4 seconds RetCode: 0 Status: OK PackageFile: COTAN_2.7.3.tgz PackageFileSize: 10.91 MiB