Package: COTAN Version: 2.7.3 Command: /Library/Frameworks/R.framework/Resources/bin/R CMD INSTALL COTAN StartedAt: 2025-02-09 15:24:52 -0500 (Sun, 09 Feb 2025) EndedAt: 2025-02-09 15:25:10 -0500 (Sun, 09 Feb 2025) EllapsedTime: 18.7 seconds RetCode: 0 Status: OK