Package: COTAN Version: 2.7.3 Command: /Library/Frameworks/R.framework/Resources/bin/R CMD build --keep-empty-dirs --no-resave-data COTAN StartedAt: 2025-02-12 16:21:30 -0500 (Wed, 12 Feb 2025) EndedAt: 2025-02-12 16:30:56 -0500 (Wed, 12 Feb 2025) EllapsedTime: 566.4 seconds RetCode: 0 Status: OK PackageFile: COTAN_2.7.3.tar.gz PackageFileSize: 10.51 MiB