Package: COTAN Version: 2.7.3 Command: /Library/Frameworks/R.framework/Resources/bin/R CMD check --install=check:COTAN.install-out.txt --library=/Library/Frameworks/R.framework/Resources/library --no-vignettes --timings COTAN_2.7.3.tar.gz StartedAt: 2025-02-09 19:57:58 -0500 (Sun, 09 Feb 2025) EndedAt: 2025-02-09 20:23:49 -0500 (Sun, 09 Feb 2025) EllapsedTime: 1550.8 seconds RetCode: 0 Status: OK CheckDir: COTAN.Rcheck Warnings: 0