Package: COTAN Version: 2.7.3 Command: /Library/Frameworks/R.framework/Resources/bin/R CMD INSTALL COTAN StartedAt: 2025-02-09 15:40:13 -0500 (Sun, 09 Feb 2025) EndedAt: 2025-02-09 15:41:20 -0500 (Sun, 09 Feb 2025) EllapsedTime: 66.7 seconds RetCode: 0 Status: OK