Package: COTAN Version: 2.7.3 Command: /home/biocbuild/bbs-3.21-bioc/R/bin/R CMD INSTALL COTAN StartedAt: 2025-02-12 15:52:59 -0500 (Wed, 12 Feb 2025) EndedAt: 2025-02-12 15:53:48 -0500 (Wed, 12 Feb 2025) EllapsedTime: 48.3 seconds RetCode: 0 Status: OK