Package: COTAN Version: 2.7.2 Command: rm -rf COTAN.buildbin-libdir && mkdir COTAN.buildbin-libdir && E:\biocbuild\bbs-3.21-bioc\R\bin\R.exe CMD INSTALL --build --library=COTAN.buildbin-libdir COTAN_2.7.2.tar.gz StartedAt: 2025-01-27 06:58:08 -0500 (Mon, 27 Jan 2025) EndedAt: 2025-01-27 06:59:51 -0500 (Mon, 27 Jan 2025) EllapsedTime: 102.7 seconds RetCode: 0 Status: OK PackageFile: COTAN_2.7.2.zip PackageFileSize: 7.406 MiB