Package: COTAN Version: 2.7.3 Command: chmod a+r COTAN -R && E:\biocbuild\bbs-3.21-bioc\R\bin\R.exe CMD build --keep-empty-dirs --no-resave-data COTAN StartedAt: 2025-02-09 18:04:48 -0500 (Sun, 09 Feb 2025) EndedAt: 2025-02-09 18:04:52 -0500 (Sun, 09 Feb 2025) EllapsedTime: 4.0 seconds RetCode: 1 Status: ERROR PackageFile: None PackageFileSize: NA