Package: CRISPRball Version: 1.3.2 Command: rm -rf CRISPRball.buildbin-libdir && mkdir CRISPRball.buildbin-libdir && /Users/biocbuild/BBS/utils/build-universal.sh CRISPRball_1.3.2.tar.gz /Library/Frameworks/R.framework/Resources/bin/R CRISPRball.buildbin-libdir StartedAt: 2025-02-04 22:12:36 -0500 (Tue, 04 Feb 2025) EndedAt: 2025-02-04 22:12:51 -0500 (Tue, 04 Feb 2025) EllapsedTime: 15.3 seconds RetCode: 0 Status: OK PackageFile: CRISPRball_1.3.2.tgz PackageFileSize: 2.298 MiB