Package: CRISPRball Version: 1.3.2 Command: /Library/Frameworks/R.framework/Resources/bin/R CMD build --keep-empty-dirs --no-resave-data CRISPRball StartedAt: 2025-02-04 16:00:38 -0500 (Tue, 04 Feb 2025) EndedAt: 2025-02-04 16:00:53 -0500 (Tue, 04 Feb 2025) EllapsedTime: 15.2 seconds RetCode: 0 Status: OK PackageFile: CRISPRball_1.3.2.tar.gz PackageFileSize: 2.615 MiB