Package: CRISPRball Version: 1.3.2 Command: /home/biocbuild/R/R/bin/R CMD build --keep-empty-dirs --no-resave-data CRISPRball StartedAt: 2025-01-28 22:09:45 -0000 (Tue, 28 Jan 2025) EndedAt: 2025-01-28 22:10:35 -0000 (Tue, 28 Jan 2025) EllapsedTime: 50.0 seconds RetCode: 0 Status: OK PackageFile: CRISPRball_1.3.2.tar.gz PackageFileSize: 2.681 MiB