Package: CRISPRball Version: 1.3.2 Command: /home/biocbuild/R/R/bin/R CMD check --install=check:CRISPRball.install-out.txt --library=/home/biocbuild/R/R/site-library --no-vignettes --timings CRISPRball_1.3.2.tar.gz StartedAt: 2025-01-28 09:32:39 -0000 (Tue, 28 Jan 2025) EndedAt: 2025-01-28 09:38:32 -0000 (Tue, 28 Jan 2025) EllapsedTime: 353.3 seconds RetCode: 0 Status: WARNINGS CheckDir: CRISPRball.Rcheck Warnings: 5