Package: CRISPRball Version: 1.3.2 Command: /Library/Frameworks/R.framework/Resources/bin/R CMD build --keep-empty-dirs --no-resave-data CRISPRball StartedAt: 2025-02-09 16:24:20 -0500 (Sun, 09 Feb 2025) EndedAt: 2025-02-09 16:25:02 -0500 (Sun, 09 Feb 2025) EllapsedTime: 42.2 seconds RetCode: 0 Status: OK PackageFile: CRISPRball_1.3.2.tar.gz PackageFileSize: 2.614 MiB