Package: CRISPRball Version: 1.3.2 Command: /Library/Frameworks/R.framework/Resources/bin/R CMD INSTALL CRISPRball StartedAt: 2025-02-09 15:40:34 -0500 (Sun, 09 Feb 2025) EndedAt: 2025-02-09 15:41:21 -0500 (Sun, 09 Feb 2025) EllapsedTime: 47.3 seconds RetCode: 0 Status: OK