Package: CRISPRball Version: 1.3.2 Command: /home/biocbuild/bbs-3.21-bioc/R/bin/R CMD build --keep-empty-dirs --no-resave-data CRISPRball StartedAt: 2025-02-09 16:48:58 -0500 (Sun, 09 Feb 2025) EndedAt: 2025-02-09 16:49:35 -0500 (Sun, 09 Feb 2025) EllapsedTime: 37.0 seconds RetCode: 0 Status: OK PackageFile: CRISPRball_1.3.2.tar.gz PackageFileSize: 2.614 MiB