Package: CRISPRball Version: 1.3.2 Command: E:\biocbuild\bbs-3.21-bioc\R\bin\R.exe CMD check --no-multiarch --install=check:CRISPRball.install-out.txt --library=E:\biocbuild\bbs-3.21-bioc\R\library --no-vignettes --timings CRISPRball_1.3.2.tar.gz StartedAt: 2025-02-10 00:01:00 -0500 (Mon, 10 Feb 2025) EndedAt: 2025-02-10 00:06:25 -0500 (Mon, 10 Feb 2025) EllapsedTime: 325.1 seconds RetCode: 0 Status: OK CheckDir: CRISPRball.Rcheck Warnings: 0