Package: CRISPRseek Version: 1.47.1 Maintainer: Lihua Julie Zhu MaintainerEmail: julie.zhu at umassmed.edu git_url: https://git.bioconductor.org/packages/CRISPRseek git_branch: devel git_last_commit: 7c89f87 git_last_commit_date: 2025-02-07 09:51:36 -0500 (Fri, 07 Feb 2025)