Package: CRISPRseek Version: 1.47.1 Command: /Library/Frameworks/R.framework/Resources/bin/R CMD check --install=check:CRISPRseek.install-out.txt --library=/Library/Frameworks/R.framework/Resources/library --no-vignettes --timings CRISPRseek_1.47.1.tar.gz StartedAt: 2025-02-12 19:49:38 -0500 (Wed, 12 Feb 2025) EndedAt: 2025-02-12 20:23:03 -0500 (Wed, 12 Feb 2025) EllapsedTime: 2005.1 seconds RetCode: 1 Status: ERROR CheckDir: CRISPRseek.Rcheck Warnings: NA