Package: CRISPRseek Version: 1.47.1 Command: /home/biocbuild/bbs-3.21-bioc/R/bin/R CMD build --keep-empty-dirs --no-resave-data CRISPRseek StartedAt: 2025-02-09 16:49:35 -0500 (Sun, 09 Feb 2025) EndedAt: 2025-02-09 16:52:13 -0500 (Sun, 09 Feb 2025) EllapsedTime: 157.3 seconds RetCode: 0 Status: OK PackageFile: CRISPRseek_1.47.1.tar.gz PackageFileSize: 11.84 MiB