Package: CRISPRseek Version: 1.47.1 Command: /home/biocbuild/bbs-3.21-bioc/R/bin/R CMD check --install=check:CRISPRseek.install-out.txt --library=/home/biocbuild/bbs-3.21-bioc/R/site-library --timings CRISPRseek_1.47.1.tar.gz StartedAt: 2025-02-09 21:17:56 -0500 (Sun, 09 Feb 2025) EndedAt: 2025-02-09 21:46:24 -0500 (Sun, 09 Feb 2025) EllapsedTime: 1708.2 seconds RetCode: 1 Status: ERROR CheckDir: CRISPRseek.Rcheck Warnings: NA