Package: CRISPRseek Version: 1.47.1 Command: rm -rf CRISPRseek.buildbin-libdir && mkdir CRISPRseek.buildbin-libdir && E:\biocbuild\bbs-3.21-bioc\R\bin\R.exe CMD INSTALL --build --library=CRISPRseek.buildbin-libdir CRISPRseek_1.47.1.tar.gz StartedAt: 2025-02-10 07:32:21 -0500 (Mon, 10 Feb 2025) EndedAt: 2025-02-10 07:33:29 -0500 (Mon, 10 Feb 2025) EllapsedTime: 68.4 seconds RetCode: 0 Status: OK PackageFile: CRISPRseek_1.47.1.zip PackageFileSize: 12.27 MiB