Package: CRImage Version: 1.55.0 Command: rm -rf CRImage.buildbin-libdir && mkdir CRImage.buildbin-libdir && /Users/biocbuild/BBS/utils/build-universal.sh CRImage_1.55.0.tar.gz /Library/Frameworks/R.framework/Resources/bin/R CRImage.buildbin-libdir StartedAt: 2025-02-09 22:10:44 -0500 (Sun, 09 Feb 2025) EndedAt: 2025-02-09 22:10:49 -0500 (Sun, 09 Feb 2025) EllapsedTime: 5.1 seconds RetCode: 0 Status: OK PackageFile: CRImage_1.55.0.tgz PackageFileSize: 6.549 MiB