Package: CRImage Version: 1.55.0 Command: /Library/Frameworks/R.framework/Resources/bin/R CMD check --install=check:CRImage.install-out.txt --library=/Library/Frameworks/R.framework/Resources/library --no-vignettes --timings CRImage_1.55.0.tar.gz StartedAt: 2025-02-09 18:42:04 -0500 (Sun, 09 Feb 2025) EndedAt: 2025-02-09 18:42:36 -0500 (Sun, 09 Feb 2025) EllapsedTime: 31.3 seconds RetCode: 0 Status: OK CheckDir: CRImage.Rcheck Warnings: 0