Package: CRImage Version: 1.55.0 Command: /home/biocbuild/R/R/bin/R CMD INSTALL CRImage StartedAt: 2025-01-29 20:21:50 -0000 (Wed, 29 Jan 2025) EndedAt: 2025-01-29 20:22:05 -0000 (Wed, 29 Jan 2025) EllapsedTime: 14.8 seconds RetCode: 0 Status: OK